BEGIN:VCALENDAR
VERSION:2.0
PRODID:-//DFW MSDC - ECPv6.15.17.1//NONSGML v1.0//EN
CALSCALE:GREGORIAN
METHOD:PUBLISH
X-ORIGINAL-URL:https://dfwmsdc.com
X-WR-CALDESC:Events for DFW MSDC
REFRESH-INTERVAL;VALUE=DURATION:PT1H
X-Robots-Tag:noindex
X-PUBLISHED-TTL:PT1H
BEGIN:VTIMEZONE
TZID:America/Chicago
BEGIN:DAYLIGHT
TZOFFSETFROM:-0600
TZOFFSETTO:-0500
TZNAME:CDT
DTSTART:20180311T080000
END:DAYLIGHT
BEGIN:STANDARD
TZOFFSETFROM:-0500
TZOFFSETTO:-0600
TZNAME:CST
DTSTART:20181104T070000
END:STANDARD
BEGIN:DAYLIGHT
TZOFFSETFROM:-0600
TZOFFSETTO:-0500
TZNAME:CDT
DTSTART:20190310T080000
END:DAYLIGHT
BEGIN:STANDARD
TZOFFSETFROM:-0500
TZOFFSETTO:-0600
TZNAME:CST
DTSTART:20191103T070000
END:STANDARD
BEGIN:DAYLIGHT
TZOFFSETFROM:-0600
TZOFFSETTO:-0500
TZNAME:CDT
DTSTART:20200308T080000
END:DAYLIGHT
BEGIN:STANDARD
TZOFFSETFROM:-0500
TZOFFSETTO:-0600
TZNAME:CST
DTSTART:20201101T070000
END:STANDARD
END:VTIMEZONE
BEGIN:VEVENT
DTSTART;TZID=America/Chicago:20191009T063000
DTEND;TZID=America/Chicago:20191009T080000
DTSTAMP:20260421T033752
CREATED:20190124T001713Z
LAST-MODIFIED:20190124T001713Z
UID:4056-1570602600-1570608000@dfwmsdc.com
SUMMARY:MBE INPUT COMMITTEE SESSION
DESCRIPTION:
URL:https://dfwmsdc.com/event/mbe-input-committee-session-6/
END:VEVENT
BEGIN:VEVENT
DTSTART;TZID=America/Chicago:20191001T040000
DTEND;TZID=America/Chicago:20191001T173000
DTSTAMP:20260421T033752
CREATED:20190118T021656Z
LAST-MODIFIED:20190601T191252Z
UID:3977-1569902400-1569951000@dfwmsdc.com
SUMMARY:New Supplier Orientation
DESCRIPTION:
URL:https://dfwmsdc.com/event/new-supplier-orientation-8/
LOCATION:DFW MSDC Offices\, 8828 N Stemmons Freeway\, Ste 550\, Dallas\, TX\, 75247
END:VEVENT
BEGIN:VEVENT
DTSTART;TZID=America/Chicago:20190925T083000
DTEND;TZID=America/Chicago:20190925T100000
DTSTAMP:20260421T033752
CREATED:20190124T001619Z
LAST-MODIFIED:20190902T080353Z
UID:4054-1569400200-1569405600@dfwmsdc.com
SUMMARY:JOINT MBE INPUT COMMITTEE & SUPPLIER DIVERSITY PROFESSIONALS WORKING GROUP MEETING
DESCRIPTION:
URL:https://dfwmsdc.com/event/joint-mbe-input-committee-supplier-diversity-professionals-working-group-meeting/
LOCATION:Double Tree Hotel –\, 4099 Valley View Lane\, Dallas\, TX\, 75244\, United States
END:VEVENT
BEGIN:VEVENT
DTSTART;TZID=America/Chicago:20190925T063000
DTEND;TZID=America/Chicago:20190925T080000
DTSTAMP:20260421T033752
CREATED:20190118T014326Z
LAST-MODIFIED:20190118T014326Z
UID:3934-1569393000-1569398400@dfwmsdc.com
SUMMARY:Quarterly Buyers' Luncheon
DESCRIPTION:
URL:https://dfwmsdc.com/event/quarterly-buyers-luncheon-6/
END:VEVENT
BEGIN:VEVENT
DTSTART;TZID=America/Chicago:20190910T040000
DTEND;TZID=America/Chicago:20190910T053000
DTSTAMP:20260421T033752
CREATED:20190118T021600Z
LAST-MODIFIED:20190601T191511Z
UID:3975-1568088000-1568093400@dfwmsdc.com
SUMMARY:New Supplier Orientation
DESCRIPTION:
URL:https://dfwmsdc.com/event/new-supplier-orientation-7/
LOCATION:DFW MSDC Offices\, 8828 N Stemmons Freeway\, Ste 550\, Dallas\, TX\, 75247
END:VEVENT
BEGIN:VEVENT
DTSTART;TZID=America/Chicago:20190828T060000
DTEND;TZID=America/Chicago:20190828T100000
DTSTAMP:20260421T033752
CREATED:20190124T001505Z
LAST-MODIFIED:20190812T000143Z
UID:4052-1566972000-1566986400@dfwmsdc.com
SUMMARY:NATIVE AMERICAN BUSINESS ASSOCIATION VENDOR FAIR
DESCRIPTION:
URL:https://dfwmsdc.com/event/mbe-input-committee-session-5/
LOCATION:DFW MSDC Offices\, 8828 N Stemmons Freeway\, Ste 550\, Dallas\, TX\, 75247
END:VEVENT
BEGIN:VEVENT
DTSTART;TZID=America/Chicago:20190826T023000
DTEND;TZID=America/Chicago:20190826T100000
DTSTAMP:20260421T033752
CREATED:20190118T015510Z
LAST-MODIFIED:20190811T235904Z
UID:3951-1566786600-1566813600@dfwmsdc.com
SUMMARY:Golf & Tennis Classic
DESCRIPTION:
URL:https://dfwmsdc.com/event/golf-tennis-classic-3/
LOCATION:Brookhaven Country Club\, 3333 Golfing Green Drive\, Farmers Branch\, TX\, 75234\, United States
END:VEVENT
BEGIN:VEVENT
DTSTART;TZID=America/Chicago:20190806T040000
DTEND;TZID=America/Chicago:20190806T053000
DTSTAMP:20260421T033752
CREATED:20190118T021502Z
LAST-MODIFIED:20190601T191830Z
UID:3973-1565064000-1565069400@dfwmsdc.com
SUMMARY:New Supplier Orientation
DESCRIPTION:
URL:https://dfwmsdc.com/event/new-supplier-orientation-6/
LOCATION:DFW MSDC Offices\, 8828 N Stemmons Freeway\, Ste 550\, Dallas\, TX\, 75247
END:VEVENT
BEGIN:VEVENT
DTSTART;TZID=America/Chicago:20190717T113000
DTEND;TZID=America/Chicago:20190717T133000
DTSTAMP:20260421T033752
CREATED:20190124T001413Z
LAST-MODIFIED:20190617T020538Z
UID:4050-1563363000-1563370200@dfwmsdc.com
SUMMARY:MBE INPUT COMMITTEE MBE 2 MBE MIXER
DESCRIPTION:
URL:https://dfwmsdc.com/event/mbe-input-committee-session-4/
LOCATION:Smokey John’s\, 1820 W Mockingbird Ln\, Dallas\, texas
END:VEVENT
BEGIN:VEVENT
DTSTART;TZID=America/Chicago:20190702T040000
DTEND;TZID=America/Chicago:20190702T053000
DTSTAMP:20260421T033752
CREATED:20190118T021413Z
LAST-MODIFIED:20190601T192015Z
UID:3971-1562040000-1562045400@dfwmsdc.com
SUMMARY:New Supplier Orientation
DESCRIPTION:
URL:https://dfwmsdc.com/event/new-supplier-orientation-3/
LOCATION:DFW MSDC Offices\, 8828 N Stemmons Freeway\, Ste 550\, Dallas\, TX\, 75247
END:VEVENT
BEGIN:VEVENT
DTSTART;TZID=America/Chicago:20190630T070000
DTEND;TZID=America/Chicago:20190630T100000
DTSTAMP:20260421T033752
CREATED:20190701T023815Z
LAST-MODIFIED:20190701T023815Z
UID:4395-1561878000-1561888800@dfwmsdc.com
SUMMARY:7th Annual Fort Worth ISD Vendor Mixer
DESCRIPTION:
URL:https://dfwmsdc.com/event/7th-annual-fort-worth-isd-vendor-mixer/
LOCATION:VAN ZANDT-GUINN ELEMENTARY SCHOOL\, 501 Missouri Ave\, Fort Worth\, TX\, 76104\, United States
END:VEVENT
BEGIN:VEVENT
DTSTART;TZID=America/Chicago:20190630T063000
DTEND;TZID=America/Chicago:20190630T103000
DTSTAMP:20260421T033752
CREATED:20190701T024118Z
LAST-MODIFIED:20190701T024118Z
UID:4397-1561876200-1561890600@dfwmsdc.com
SUMMARY:Texas Town Hall Meeting with NMSDC President
DESCRIPTION:
URL:https://dfwmsdc.com/event/texas-town-hall-meeting-with-nmsdc-president/
LOCATION:JCPenney\, 6501 Legacy Dr\, Plano\, TX\, 75024\, United States
ORGANIZER;CN="Andrew Nash":MAILTO:andrew@dfwmsdc.com
END:VEVENT
BEGIN:VEVENT
DTSTART;TZID=America/Chicago:20190626T070000
DTEND;TZID=America/Chicago:20190626T100000
DTSTAMP:20260421T033752
CREATED:20181204T020306Z
LAST-MODIFIED:20190601T185255Z
UID:3746-1561532400-1561543200@dfwmsdc.com
SUMMARY:FORT WORTH "ISD DAY" VENDOR MIXER
DESCRIPTION:
URL:https://dfwmsdc.com/event/disd-isd-isd-day-buyer-and-vendor-mixer-3/
LOCATION:VAN ZANDT-GUINN ELEMENTARY SCHOOL\, 501 Missouri Ave\, Fort Worth\, TX\, 76104\, United States
END:VEVENT
BEGIN:VEVENT
DTSTART;TZID=America/Chicago:20190619T063000
DTEND;TZID=America/Chicago:20190619T080000
DTSTAMP:20260421T033752
CREATED:20190118T014234Z
LAST-MODIFIED:20190601T184750Z
UID:3932-1560925800-1560931200@dfwmsdc.com
SUMMARY:Quarterly Buyers' Luncheon
DESCRIPTION:
URL:https://dfwmsdc.com/event/quarterly-buyers-luncheon-5/
LOCATION:Double Tree Hotel –\, 4099 Valley View Lane\, Dallas\, TX\, 75244\, United States
END:VEVENT
BEGIN:VEVENT
DTSTART;TZID=America/Chicago:20190605T090000
DTEND;TZID=America/Chicago:20190605T110000
DTSTAMP:20260421T033752
CREATED:20190119T010722Z
LAST-MODIFIED:20190601T192434Z
UID:4027-1559725200-1559732400@dfwmsdc.com
SUMMARY:Supplier Diversity Professionals Working Group Meeting
DESCRIPTION:
URL:https://dfwmsdc.com/event/supplier-diversity-professionals-working-group-meeting-2/
LOCATION:DFW MSDC Offices\, 8828 N Stemmons Freeway\, Ste 550\, Dallas\, TX\, 75247
END:VEVENT
BEGIN:VEVENT
DTSTART;TZID=America/Chicago:20190604T040000
DTEND;TZID=America/Chicago:20190604T173000
DTSTAMP:20260421T033752
CREATED:20190118T021326Z
LAST-MODIFIED:20190601T191621Z
UID:3969-1559620800-1559669400@dfwmsdc.com
SUMMARY:New Supplier Orientation
DESCRIPTION:
URL:https://dfwmsdc.com/event/new-supplier-orientation-2/
LOCATION:DFW MSDC Offices\, 8828 N Stemmons Freeway\, Ste 550\, Dallas\, TX\, 75247
END:VEVENT
BEGIN:VEVENT
DTSTART;TZID=America/Chicago:20190522T103000
DTEND;TZID=America/Chicago:20190522T113000
DTSTAMP:20260421T033752
CREATED:20190124T001320Z
LAST-MODIFIED:20190511T194810Z
UID:4048-1558521000-1558524600@dfwmsdc.com
SUMMARY:MBE INPUT COMMITTEE WEBINAR - HR TOOLS
DESCRIPTION:
URL:https://dfwmsdc.com/event/mbe-input-committee-session-3/
LOCATION:Webinar
END:VEVENT
BEGIN:VEVENT
DTSTART;TZID=America/Chicago:20190514T040000
DTEND;TZID=America/Chicago:20190514T053000
DTSTAMP:20260421T033753
CREATED:20190111T041045Z
LAST-MODIFIED:20190118T020610Z
UID:3908-1557806400-1557811800@dfwmsdc.com
SUMMARY:New Supplier Orientation
DESCRIPTION:
URL:https://dfwmsdc.com/event/3908/
LOCATION:VAN ZANDT-GUINN ELEMENTARY SCHOOL\, 501 Missouri Ave\, Fort Worth\, TX\, 76104\, United States
ORGANIZER;CN="Andrew Nash":MAILTO:andrew@dfwmsdc.com
END:VEVENT
BEGIN:VEVENT
DTSTART;TZID=America/Chicago:20190506T070000
DTEND;TZID=America/Chicago:20190507T140000
DTSTAMP:20260421T033753
CREATED:20190118T015157Z
LAST-MODIFIED:20190118T015157Z
UID:3946-1557126000-1557237600@dfwmsdc.com
SUMMARY:ACCESS 2019 Business Expo
DESCRIPTION:
URL:https://dfwmsdc.com/event/access-2019-business-expo/
LOCATION:Irving Convention Center\, United States
END:VEVENT
BEGIN:VEVENT
DTSTART;TZID=America/Chicago:20190426T023000
DTEND;TZID=America/Chicago:20190426T040000
DTSTAMP:20260421T033753
CREATED:20181204T015718Z
LAST-MODIFIED:20190411T211653Z
UID:3738-1556245800-1556251200@dfwmsdc.com
SUMMARY:BUY THOSE THAT BUY US(TM) RECOGNITION BREAKFAST (Invitation Only)
DESCRIPTION:
URL:https://dfwmsdc.com/event/buy-those-that-buy-ustm-recognition-breakfast/
LOCATION:Toyota Headquarters\, 6565 Headquarters Drive\, Plano\, TX\, 75024\, United States
ORGANIZER;CN="Andrew Nash":MAILTO:andrew@dfwmsdc.com
END:VEVENT
BEGIN:VEVENT
DTSTART;TZID=America/Chicago:20190417T110000
DTEND;TZID=America/Chicago:20190417T140000
DTSTAMP:20260421T033753
CREATED:20190118T014641Z
LAST-MODIFIED:20190118T014641Z
UID:3938-1555498800-1555509600@dfwmsdc.com
SUMMARY:Top Golf Scholarship Event
DESCRIPTION:
URL:https://dfwmsdc.com/event/top-golf-scholarship-event-3/
END:VEVENT
BEGIN:VEVENT
DTSTART;TZID=America/Chicago:20190402T040000
DTEND;TZID=America/Chicago:20190402T173000
DTSTAMP:20260421T033753
CREATED:20190118T020431Z
LAST-MODIFIED:20190118T020431Z
UID:3964-1554177600-1554226200@dfwmsdc.com
SUMMARY:New Supplier Orientation
DESCRIPTION:
URL:https://dfwmsdc.com/event/new-supplier-orientation-5/
LOCATION:VAN ZANDT-GUINN ELEMENTARY SCHOOL\, 501 Missouri Ave\, Fort Worth\, TX\, 76104\, United States
END:VEVENT
BEGIN:VEVENT
DTSTART;TZID=America/Chicago:20190328T023000
DTEND;TZID=America/Chicago:20190328T060000
DTSTAMP:20260421T033753
CREATED:20190118T022206Z
LAST-MODIFIED:20190118T022206Z
UID:3988-1553740200-1553752800@dfwmsdc.com
SUMMARY:HIRING THE BEST - Session 3
DESCRIPTION:
URL:https://dfwmsdc.com/event/hiring-the-best-session-3/
LOCATION:Vistra Energy\, United States
END:VEVENT
BEGIN:VEVENT
DTSTART;TZID=America/Chicago:20190327T063000
DTEND;TZID=America/Chicago:20190327T080000
DTSTAMP:20260421T033753
CREATED:20190118T014130Z
LAST-MODIFIED:20190118T014130Z
UID:3930-1553668200-1553673600@dfwmsdc.com
SUMMARY:Quarterly Buyers' Luncheon
DESCRIPTION:
URL:https://dfwmsdc.com/event/quarterly-buyers-luncheon-4/
LOCATION:Double Tree Hotel –\, 4099 Valley View Lane\, Dallas\, TX\, 75244\, United States
END:VEVENT
BEGIN:VEVENT
DTSTART;TZID=America/Chicago:20190320T030000
DTEND;TZID=America/Chicago:20190320T080000
DTSTAMP:20260421T033753
CREATED:20190124T001203Z
LAST-MODIFIED:20190124T001203Z
UID:4046-1553050800-1553068800@dfwmsdc.com
SUMMARY:MBE INPUT COMMITTEE SESSION
DESCRIPTION:
URL:https://dfwmsdc.com/event/mbe-input-committee-session-2/
LOCATION:VAN ZANDT-GUINN ELEMENTARY SCHOOL\, 501 Missouri Ave\, Fort Worth\, TX\, 76104\, United States
END:VEVENT
BEGIN:VEVENT
DTSTART;TZID=America/Chicago:20190307T013000
DTEND;TZID=America/Chicago:20190307T050000
DTSTAMP:20260421T033753
CREATED:20190118T022118Z
LAST-MODIFIED:20190118T022118Z
UID:3986-1551922200-1551934800@dfwmsdc.com
SUMMARY:HIRING THE BEST - Session 2
DESCRIPTION:
URL:https://dfwmsdc.com/event/hiring-the-best-session-2/
LOCATION:Vistra Energy\, United States
END:VEVENT
BEGIN:VEVENT
DTSTART;TZID=America/Chicago:20190305T103000
DTEND;TZID=America/Chicago:20190305T140000
DTSTAMP:20260421T033753
CREATED:20190118T014024Z
LAST-MODIFIED:20190118T020854Z
UID:3928-1551781800-1551794400@dfwmsdc.com
SUMMARY:HARD HAT 2019 Construction Expo
DESCRIPTION:
URL:https://dfwmsdc.com/event/hard-hat-construction-expo/
ORGANIZER;CN="Andrew Nash":MAILTO:andrew@dfwmsdc.com
END:VEVENT
BEGIN:VEVENT
DTSTART;TZID=America/Chicago:20190305T030000
DTEND;TZID=America/Chicago:20190305T043000
DTSTAMP:20260421T033753
CREATED:20190118T020233Z
LAST-MODIFIED:20190118T020233Z
UID:3962-1551754800-1551760200@dfwmsdc.com
SUMMARY:New Supplier Orientation
DESCRIPTION:
URL:https://dfwmsdc.com/event/new-supplier-orientation-4/
LOCATION:VAN ZANDT-GUINN ELEMENTARY SCHOOL\, 501 Missouri Ave\, Fort Worth\, TX\, 76104\, United States
END:VEVENT
BEGIN:VEVENT
DTSTART;TZID=America/Chicago:20190220T053000
DTEND;TZID=America/Chicago:20190220T070000
DTSTAMP:20260421T033753
CREATED:20190124T000947Z
LAST-MODIFIED:20190124T001059Z
UID:4044-1550640600-1550646000@dfwmsdc.com
SUMMARY:MBE INPUT COMMITTEE SESSION
DESCRIPTION:
URL:https://dfwmsdc.com/event/mbe-input-committee-session/
LOCATION:VAN ZANDT-GUINN ELEMENTARY SCHOOL\, 501 Missouri Ave\, Fort Worth\, TX\, 76104\, United States
END:VEVENT
BEGIN:VEVENT
DTSTART;TZID=America/Chicago:20190219T013000
DTEND;TZID=America/Chicago:20190219T070000
DTSTAMP:20260421T033753
CREATED:20190118T022018Z
LAST-MODIFIED:20190118T022018Z
UID:3983-1550539800-1550559600@dfwmsdc.com
SUMMARY:HIRING THE BEST - Session 1
DESCRIPTION:
URL:https://dfwmsdc.com/event/hiring-the-best-session-1/
LOCATION:Vistra Energy\, United States
END:VEVENT
END:VCALENDAR