BEGIN:VCALENDAR
VERSION:2.0
PRODID:-//DFW MSDC - ECPv6.15.17.1//NONSGML v1.0//EN
CALSCALE:GREGORIAN
METHOD:PUBLISH
X-ORIGINAL-URL:https://dfwmsdc.com
X-WR-CALDESC:Events for DFW MSDC
REFRESH-INTERVAL;VALUE=DURATION:PT1H
X-Robots-Tag:noindex
X-PUBLISHED-TTL:PT1H
BEGIN:VTIMEZONE
TZID:America/Chicago
BEGIN:DAYLIGHT
TZOFFSETFROM:-0600
TZOFFSETTO:-0500
TZNAME:CDT
DTSTART:20170312T080000
END:DAYLIGHT
BEGIN:STANDARD
TZOFFSETFROM:-0500
TZOFFSETTO:-0600
TZNAME:CST
DTSTART:20171105T070000
END:STANDARD
BEGIN:DAYLIGHT
TZOFFSETFROM:-0600
TZOFFSETTO:-0500
TZNAME:CDT
DTSTART:20180311T080000
END:DAYLIGHT
BEGIN:STANDARD
TZOFFSETFROM:-0500
TZOFFSETTO:-0600
TZNAME:CST
DTSTART:20181104T070000
END:STANDARD
BEGIN:DAYLIGHT
TZOFFSETFROM:-0600
TZOFFSETTO:-0500
TZNAME:CDT
DTSTART:20190310T080000
END:DAYLIGHT
BEGIN:STANDARD
TZOFFSETFROM:-0500
TZOFFSETTO:-0600
TZNAME:CST
DTSTART:20191103T070000
END:STANDARD
BEGIN:DAYLIGHT
TZOFFSETFROM:-0600
TZOFFSETTO:-0500
TZNAME:CDT
DTSTART:20200308T080000
END:DAYLIGHT
BEGIN:STANDARD
TZOFFSETFROM:-0500
TZOFFSETTO:-0600
TZNAME:CST
DTSTART:20201101T070000
END:STANDARD
END:VTIMEZONE
BEGIN:VEVENT
DTSTART;TZID=America/Chicago:20190212T200000
DTEND;TZID=America/Chicago:20190213T100000
DTSTAMP:20260421T074048
CREATED:20190119T010628Z
LAST-MODIFIED:20190119T010628Z
UID:4025-1550001600-1550052000@dfwmsdc.com
SUMMARY:Supplier Diversity Professionals Working Group Meeting
DESCRIPTION:
URL:https://dfwmsdc.com/event/supplier-diversity-professionals-working-group-meeting/
LOCATION:VAN ZANDT-GUINN ELEMENTARY SCHOOL\, 501 Missouri Ave\, Fort Worth\, TX\, 76104\, United States
END:VEVENT
BEGIN:VEVENT
DTSTART;VALUE=DATE:20190211
DTEND;VALUE=DATE:20190213
DTSTAMP:20260421T074048
CREATED:20190118T013541Z
LAST-MODIFIED:20190118T013541Z
UID:3926-1549908000-1549994399@dfwmsdc.com
SUMMARY:Public Policy Day in Austin Texas
DESCRIPTION:
URL:https://dfwmsdc.com/event/public-policy-day-in-austin-texas/
ORGANIZER;CN="Andrew Nash":MAILTO:andrew@dfwmsdc.com
END:VEVENT
BEGIN:VEVENT
DTSTART;TZID=America/Chicago:20190205T030000
DTEND;TZID=America/Chicago:20190205T043000
DTSTAMP:20260421T074048
CREATED:20190111T040553Z
LAST-MODIFIED:20190111T040553Z
UID:3902-1549335600-1549341000@dfwmsdc.com
SUMMARY:NEW SUPPLIER ORIENTATION
DESCRIPTION:
URL:https://dfwmsdc.com/event/new-supplier-orientation/
LOCATION:VAN ZANDT-GUINN ELEMENTARY SCHOOL\, 501 Missouri Ave\, Fort Worth\, TX\, 76104\, United States
ORGANIZER;CN="Andrew Nash":MAILTO:andrew@dfwmsdc.com
END:VEVENT
BEGIN:VEVENT
DTSTART;TZID=America/Chicago:20190125T033000
DTEND;TZID=America/Chicago:20190125T043000
DTSTAMP:20260421T074048
CREATED:20190118T023816Z
LAST-MODIFIED:20190118T023816Z
UID:4013-1548387000-1548390600@dfwmsdc.com
SUMMARY:Coffee with the President
DESCRIPTION:
URL:https://dfwmsdc.com/event/coffee-with-the-president-2/
LOCATION:VAN ZANDT-GUINN ELEMENTARY SCHOOL\, 501 Missouri Ave\, Fort Worth\, TX\, 76104\, United States
END:VEVENT
BEGIN:VEVENT
DTSTART;TZID=America/Chicago:20190123T080000
DTEND;TZID=America/Chicago:20190123T100000
DTSTAMP:20260421T074048
CREATED:20181204T014027Z
LAST-MODIFIED:20181204T014851Z
UID:3722-1548230400-1548237600@dfwmsdc.com
SUMMARY:Board of Directors Installation
DESCRIPTION:
URL:https://dfwmsdc.com/event/board-of-directors-installation/
END:VEVENT
BEGIN:VEVENT
DTSTART;TZID=America/Chicago:20181213T070000
DTEND;TZID=America/Chicago:20181213T080000
DTSTAMP:20260421T074048
CREATED:20180727T093249Z
LAST-MODIFIED:20180727T093249Z
UID:2518-1544684400-1544688000@dfwmsdc.com
SUMMARY:Pre-Certification Workshop - Council Offices
DESCRIPTION:
URL:https://dfwmsdc.com/event/pre-certification-workshop-council-offices-10/
END:VEVENT
BEGIN:VEVENT
DTSTART;TZID=America/Chicago:20181211T113000
DTEND;TZID=America/Chicago:20181211T143000
DTSTAMP:20260421T074048
CREATED:20180727T093249Z
LAST-MODIFIED:20181127T000906Z
UID:2517-1544527800-1544538600@dfwmsdc.com
SUMMARY:D/FW MSDC Annual Meeting and Toy Drive
DESCRIPTION:
URL:https://dfwmsdc.com/event/d-fw-msdc-annual-meeting-and-toy-drive/
LOCATION:VAN ZANDT-GUINN ELEMENTARY SCHOOL\, 501 Missouri Ave\, Fort Worth\, TX\, 76104\, United States
END:VEVENT
BEGIN:VEVENT
DTSTART;TZID=America/Chicago:20181206T053000
DTEND;TZID=America/Chicago:20181206T070000
DTSTAMP:20260421T074048
CREATED:20181026T010757Z
LAST-MODIFIED:20181127T001113Z
UID:3571-1544074200-1544079600@dfwmsdc.com
SUMMARY:Quarterly Buyers Luncheon
DESCRIPTION:
URL:https://dfwmsdc.com/event/quarterly-buyers-luncheon-2/
LOCATION:Double Tree Hotel –\, 4099 Valley View Lane\, Dallas\, TX\, 75244\, United States
ORGANIZER;CN="Andrew Nash":MAILTO:andrew@dfwmsdc.com
END:VEVENT
BEGIN:VEVENT
DTSTART;TZID=America/Chicago:20181204T070000
DTEND;TZID=America/Chicago:20181204T080000
DTSTAMP:20260421T074048
CREATED:20180727T093248Z
LAST-MODIFIED:20180727T093248Z
UID:2515-1543906800-1543910400@dfwmsdc.com
SUMMARY:Pre-Certification Workshop - Council Offices
DESCRIPTION:
URL:https://dfwmsdc.com/event/pre-certification-workshop-council-offices-9/
END:VEVENT
BEGIN:VEVENT
DTSTART;TZID=America/Chicago:20181116T113000
DTEND;TZID=America/Chicago:20181116T113000
DTSTAMP:20260421T074048
CREATED:20180727T093247Z
LAST-MODIFIED:20180727T093247Z
UID:2514-1542367800-1542367800@dfwmsdc.com
SUMMARY:E-Awards 2018
DESCRIPTION:
URL:https://dfwmsdc.com/event/e-awards-2018/
END:VEVENT
BEGIN:VEVENT
DTSTART;TZID=America/Chicago:20181108T070000
DTEND;TZID=America/Chicago:20181108T080000
DTSTAMP:20260421T074048
CREATED:20180727T093247Z
LAST-MODIFIED:20180727T093247Z
UID:2512-1541660400-1541664000@dfwmsdc.com
SUMMARY:Pre-Certification Workshop - Council Offices
DESCRIPTION:
URL:https://dfwmsdc.com/event/pre-certification-workshop-council-offices-8/
END:VEVENT
BEGIN:VEVENT
DTSTART;TZID=America/Chicago:20181107T060000
DTEND;TZID=America/Chicago:20181107T090000
DTSTAMP:20260421T074048
CREATED:20181002T063412Z
LAST-MODIFIED:20181002T063412Z
UID:3444-1541570400-1541581200@dfwmsdc.com
SUMMARY:DISD ISD "ISD DAY" BUYER AND VENDOR MIXER
DESCRIPTION:
URL:https://dfwmsdc.com/event/disd-isd-isd-day-buyer-and-vendor-mixer/
LOCATION:VAN ZANDT-GUINN ELEMENTARY SCHOOL\, 501 Missouri Ave\, Fort Worth\, TX\, 76104\, United States
END:VEVENT
BEGIN:VEVENT
DTSTART;TZID=America/Chicago:20181107T023000
DTEND;TZID=America/Chicago:20181107T070000
DTSTAMP:20260421T074048
CREATED:20181002T064224Z
LAST-MODIFIED:20181002T064224Z
UID:3450-1541557800-1541574000@dfwmsdc.com
SUMMARY:MBE ACADEMY - Social Media Strategies presented by AT&T
DESCRIPTION:
URL:https://dfwmsdc.com/event/mbe-academy-social-media-strategies-presented-by-att/
LOCATION:AT&T\, 208 S Akard St\, Dallas\, TX\, 75202\, United States
END:VEVENT
BEGIN:VEVENT
DTSTART;TZID=America/Chicago:20181106T070000
DTEND;TZID=America/Chicago:20181106T080000
DTSTAMP:20260421T074048
CREATED:20180727T093247Z
LAST-MODIFIED:20180727T093247Z
UID:2510-1541487600-1541491200@dfwmsdc.com
SUMMARY:Pre-Certification Workshop - Council Offices
DESCRIPTION:
URL:https://dfwmsdc.com/event/pre-certification-workshop-council-offices-7/
END:VEVENT
BEGIN:VEVENT
DTSTART;TZID=America/Chicago:20181026T043000
DTEND;TZID=America/Chicago:20181026T053000
DTSTAMP:20260421T074048
CREATED:20181002T063204Z
LAST-MODIFIED:20181002T063204Z
UID:3440-1540528200-1540531800@dfwmsdc.com
SUMMARY:COFFEE WITH THE PRESIDENT
DESCRIPTION:
URL:https://dfwmsdc.com/event/coffee-with-the-president/
LOCATION:VAN ZANDT-GUINN ELEMENTARY SCHOOL\, 501 Missouri Ave\, Fort Worth\, TX\, 76104\, United States
END:VEVENT
BEGIN:VEVENT
DTSTART;TZID=America/Chicago:20181016T190000
DTEND;TZID=America/Chicago:20181017T185900
DTSTAMP:20260421T074048
CREATED:20180727T093245Z
LAST-MODIFIED:20180826T195440Z
UID:2509-1539716400-1539802740@dfwmsdc.com
SUMMARY:NMSDC National\, Austin TX
DESCRIPTION:
URL:https://dfwmsdc.com/event/nmsdc-national-austin-tx-4/
END:VEVENT
BEGIN:VEVENT
DTSTART;TZID=America/Chicago:20181015T190000
DTEND;TZID=America/Chicago:20181016T185900
DTSTAMP:20260421T074048
CREATED:20180727T093245Z
LAST-MODIFIED:20180826T195510Z
UID:2508-1539630000-1539716340@dfwmsdc.com
SUMMARY:NMSDC National\, Austin TX
DESCRIPTION:
URL:https://dfwmsdc.com/event/nmsdc-national-austin-tx-3/
END:VEVENT
BEGIN:VEVENT
DTSTART;TZID=America/Chicago:20181014T190000
DTEND;TZID=America/Chicago:20181015T185900
DTSTAMP:20260421T074048
CREATED:20180727T093245Z
LAST-MODIFIED:20180826T195549Z
UID:2507-1539543600-1539629940@dfwmsdc.com
SUMMARY:NMSDC National\, Austin TX
DESCRIPTION:
URL:https://dfwmsdc.com/event/nmsdc-national-austin-tx-2/
END:VEVENT
BEGIN:VEVENT
DTSTART;TZID=America/Chicago:20181013T190000
DTEND;TZID=America/Chicago:20181014T185900
DTSTAMP:20260421T074048
CREATED:20180727T093245Z
LAST-MODIFIED:20180826T195725Z
UID:2506-1539457200-1539543540@dfwmsdc.com
SUMMARY:NMSDC National\, Austin TX
DESCRIPTION:
URL:https://dfwmsdc.com/event/nmsdc-national-austin-tx/
END:VEVENT
BEGIN:VEVENT
DTSTART;TZID=America/Chicago:20181011T080000
DTEND;TZID=America/Chicago:20181011T090000
DTSTAMP:20260421T074048
CREATED:20180727T093245Z
LAST-MODIFIED:20180727T093245Z
UID:2505-1539244800-1539248400@dfwmsdc.com
SUMMARY:Pre-Certification Workshop - Council Offices
DESCRIPTION:
URL:https://dfwmsdc.com/event/pre-certification-workshop-council-offices-6/
END:VEVENT
BEGIN:VEVENT
DTSTART;TZID=America/Chicago:20181009T120000
DTEND;TZID=America/Chicago:20181009T120000
DTSTAMP:20260421T074048
CREATED:20181002T063722Z
LAST-MODIFIED:20181002T063745Z
UID:3447-1539086400-1539086400@dfwmsdc.com
SUMMARY:BOARD OF DIRECTORS NOMINATIONS CLOSE
DESCRIPTION:
URL:https://dfwmsdc.com/event/mbeic-officer-nominations-close/
END:VEVENT
BEGIN:VEVENT
DTSTART;TZID=America/Chicago:20181009T040000
DTEND;TZID=America/Chicago:20181009T110000
DTSTAMP:20260421T074048
CREATED:20181002T063041Z
LAST-MODIFIED:20181002T063041Z
UID:3438-1539057600-1539082800@dfwmsdc.com
SUMMARY:DART SITE VISIT
DESCRIPTION:
URL:https://dfwmsdc.com/event/dart-site-visit/
LOCATION:VAN ZANDT-GUINN ELEMENTARY SCHOOL\, 501 Missouri Ave\, Fort Worth\, TX\, 76104\, United States
END:VEVENT
BEGIN:VEVENT
DTSTART;TZID=America/Chicago:20181002T080000
DTEND;TZID=America/Chicago:20181002T090000
DTSTAMP:20260421T074048
CREATED:20180727T093244Z
LAST-MODIFIED:20180727T093244Z
UID:2503-1538467200-1538470800@dfwmsdc.com
SUMMARY:Pre-Certification Workshop - Council Offices
DESCRIPTION:
URL:https://dfwmsdc.com/event/pre-certification-workshop-council-offices-5/
END:VEVENT
BEGIN:VEVENT
DTSTART;TZID=America/Chicago:20181001T020000
DTEND;TZID=America/Chicago:20181001T093000
DTSTAMP:20260421T074048
CREATED:20181204T021251Z
LAST-MODIFIED:20181204T022003Z
UID:3755-1538359200-1538386200@dfwmsdc.com
SUMMARY:Golf & Tennis Classic
DESCRIPTION:
URL:https://dfwmsdc.com/event/golf-tennis-classic-2/
LOCATION:Brookhaven Country Club\, 3333 Golfing Green Drive\, Farmers Branch\, TX\, 75234\, United States
ORGANIZER;CN="Andrew Nash":MAILTO:andrew@dfwmsdc.com
END:VEVENT
BEGIN:VEVENT
DTSTART;TZID=America/Chicago:20181001T020000
DTEND;TZID=America/Chicago:20181001T093000
DTSTAMP:20260421T074048
CREATED:20180821T023307Z
LAST-MODIFIED:20180826T195242Z
UID:3030-1538359200-1538386200@dfwmsdc.com
SUMMARY:Golf & Tennis Classic
DESCRIPTION:
URL:https://dfwmsdc.com/event/golf-tennis-classic/
LOCATION:Brookhaven Country Club\, 3333 Golfing Green Drive\, Farmers Branch\, TX\, 75234\, United States
ORGANIZER;CN="Andrew Nash":MAILTO:andrew@dfwmsdc.com
END:VEVENT
BEGIN:VEVENT
DTSTART;TZID=America/Chicago:20180926T083000
DTEND;TZID=America/Chicago:20180926T103000
DTSTAMP:20260421T074048
CREATED:20180821T023022Z
LAST-MODIFIED:20180911T023420Z
UID:3028-1537950600-1537957800@dfwmsdc.com
SUMMARY:Joint SDPWG - MBEIC Round Table Sessions
DESCRIPTION:
URL:https://dfwmsdc.com/event/joint-sdpwg-mbeic-round-table-sessions/
LOCATION:Double Tree Hotel –\, 4099 Valley View Lane\, Dallas\, TX\, 75244\, United States
ORGANIZER;CN="Andrew Nash":MAILTO:andrew@dfwmsdc.com
END:VEVENT
BEGIN:VEVENT
DTSTART;TZID=America/Chicago:20180926T063000
DTEND;TZID=America/Chicago:20180926T080000
DTSTAMP:20260421T074048
CREATED:20180821T022912Z
LAST-MODIFIED:20180825T190507Z
UID:3025-1537943400-1537948800@dfwmsdc.com
SUMMARY:September 2018 Quarterly Buyers Luncheon
DESCRIPTION:
URL:https://dfwmsdc.com/event/september-2018-quarterly-buyers-luncheon/
LOCATION:Double Tree Hotel –\, 4099 Valley View Lane\, Dallas\, TX\, 75244\, United States
ORGANIZER;CN="Andrew Nash":MAILTO:andrew@dfwmsdc.com
END:VEVENT
BEGIN:VEVENT
DTSTART;TZID=America/Chicago:20180918T110000
DTEND;TZID=America/Chicago:20180918T120000
DTSTAMP:20260421T074048
CREATED:20180911T023250Z
LAST-MODIFIED:20180911T023250Z
UID:3278-1537268400-1537272000@dfwmsdc.com
SUMMARY:MBEIC Webinar - Election Procedures for MBEIC Officers Election
DESCRIPTION:
URL:https://dfwmsdc.com/event/mbeic-webinar-election-procedures-for-mbeic-officers-election-2/
LOCATION:Webinar
END:VEVENT
BEGIN:VEVENT
DTSTART;TZID=America/Chicago:20180914T040000
DTEND;TZID=America/Chicago:20180914T050000
DTSTAMP:20260421T074048
CREATED:20180911T023105Z
LAST-MODIFIED:20180911T023343Z
UID:3276-1536897600-1536901200@dfwmsdc.com
SUMMARY:MBEIC Webinar - Election Procedures for MBEIC Officers Election
DESCRIPTION:
URL:https://dfwmsdc.com/event/mbeic-webinar-election-procedures-for-mbeic-officers-election/
LOCATION:Webinar
END:VEVENT
BEGIN:VEVENT
DTSTART;TZID=America/Chicago:20180913T080000
DTEND;TZID=America/Chicago:20180913T090000
DTSTAMP:20260421T074048
CREATED:20180727T093241Z
LAST-MODIFIED:20180727T093241Z
UID:2499-1536825600-1536829200@dfwmsdc.com
SUMMARY:Pre-Certification Workshop - Council Offices
DESCRIPTION:
URL:https://dfwmsdc.com/event/pre-certification-workshop-council-offices-4/
END:VEVENT
END:VCALENDAR